byteorder I
nbits 8
xdim 0.00138888888888889
ydim -0.000833333333333333
ncols 7201
nrows 2407
nbands 1 mapunits DEGREES
ulxmap -123.999305555556
ulymap 50.9995833333333
