500.000000
0.000000
0.000000
-500.000000
204915.864184
5371346.066904
